BEGIN:VCALENDAR
VERSION:2.0
CALSCALE:GREGORIAN
METHOD:PUBLISH
X-WR-TIMEZONE:Australia/Sydney
BEGIN:VTIMEZONE
TZID:Australia/Sydney
BEGIN:STANDARD
TZNAME:AEST
END:STANDARD
END:VTIMEZONE
BEGIN:VEVENT
DTSTART;TZID=Australia/Sydney:20190306T160000
DTEND;TZID=Australia/Sydney:20190306T190000
DTSTAMP:20190227T013054
UID:111
SUMMARY:PARENT INFORMATION EVENING
DESCRIPTION:




Grade 1/2 from 4pm to 5pmGrade 3/4 from 5pm to 6pmGrade 5/6 from 6pm to 7pmEach session starts in the Gym on the hour for a team presentation and will then move into the respective classrooms for the remainder of the session.


SEQUENCE:0
STATUS:CONFIRMED
TRANSP:OPAQUE
END:VEVENT
END:VCALENDAR