BEGIN:VCALENDAR
VERSION:2.0
CALSCALE:GREGORIAN
METHOD:PUBLISH
X-WR-TIMEZONE:Australia/Sydney
BEGIN:VTIMEZONE
TZID:Australia/Sydney
BEGIN:STANDARD
TZNAME:AEST
END:STANDARD
END:VTIMEZONE
BEGIN:VEVENT
DTSTART;TZID=Australia/Sydney:20190313
DTEND;TZID=Australia/Sydney:20190313
DTSTAMP:20190227T013104
UID:112
SUMMARY:Helping Your Child with Reading at Home Information Session
DESCRIPTION:




You are invited to an information session to assist you with reading at home with your child.
Note that there is a specific session for Prep to 2 parents held during the day (Prep - 2, 9:30 - 10:30am) while the evening session will still cater for parents/carers of younger children however it will have a broader focus to cater for the entire school community (Prep - 6, 6:30 - 7:30pm).You will need to register your interest in attending via EVENTBRITE.
&amp;nbsp;


SEQUENCE:0
STATUS:CONFIRMED
TRANSP:OPAQUE
END:VEVENT
END:VCALENDAR